BEGIN:VCALENDAR
VERSION:2.0
PRODID:-//Cardiff Methodist Circuit - ECPv6.15.15//NONSGML v1.0//EN
CALSCALE:GREGORIAN
METHOD:PUBLISH
X-WR-CALNAME:Cardiff Methodist Circuit
X-ORIGINAL-URL:https://cardiffmethodist.org.uk
X-WR-CALDESC:Events for Cardiff Methodist Circuit
REFRESH-INTERVAL;VALUE=DURATION:PT1H
X-Robots-Tag:noindex
X-PUBLISHED-TTL:PT1H
BEGIN:VTIMEZONE
TZID:Europe/London
BEGIN:DAYLIGHT
TZOFFSETFROM:+0000
TZOFFSETTO:+0100
TZNAME:BST
DTSTART:20240331T010000
END:DAYLIGHT
BEGIN:STANDARD
TZOFFSETFROM:+0100
TZOFFSETTO:+0000
TZNAME:GMT
DTSTART:20241027T010000
END:STANDARD
BEGIN:DAYLIGHT
TZOFFSETFROM:+0000
TZOFFSETTO:+0100
TZNAME:BST
DTSTART:20250330T010000
END:DAYLIGHT
BEGIN:STANDARD
TZOFFSETFROM:+0100
TZOFFSETTO:+0000
TZNAME:GMT
DTSTART:20251026T010000
END:STANDARD
BEGIN:DAYLIGHT
TZOFFSETFROM:+0000
TZOFFSETTO:+0100
TZNAME:BST
DTSTART:20260329T010000
END:DAYLIGHT
BEGIN:STANDARD
TZOFFSETFROM:+0100
TZOFFSETTO:+0000
TZNAME:GMT
DTSTART:20261025T010000
END:STANDARD
END:VTIMEZONE
BEGIN:VEVENT
DTSTART;TZID=Europe/London:20251126T140000
DTEND;TZID=Europe/London:20251126T153000
DTSTAMP:20260423T005940
CREATED:20251125T171731Z
LAST-MODIFIED:20251125T171731Z
UID:3700-1764165600-1764171000@cardiffmethodist.org.uk
SUMMARY:Advent Study
DESCRIPTION:
URL:https://cardiffmethodist.org.uk/event/advent-study/
LOCATION:Wesley Methodist Church\, Caerphilly\, Crescent Road\, Caerphilly\, CF83 1AB\, United Kingdom
END:VEVENT
END:VCALENDAR