BEGIN:VCALENDAR
VERSION:2.0
PRODID:-//Cardiff Methodist Circuit - ECPv6.15.15//NONSGML v1.0//EN
CALSCALE:GREGORIAN
METHOD:PUBLISH
X-ORIGINAL-URL:https://cardiffmethodist.org.uk
X-WR-CALDESC:Events for Cardiff Methodist Circuit
REFRESH-INTERVAL;VALUE=DURATION:PT1H
X-Robots-Tag:noindex
X-PUBLISHED-TTL:PT1H
BEGIN:VTIMEZONE
TZID:Europe/London
BEGIN:DAYLIGHT
TZOFFSETFROM:+0000
TZOFFSETTO:+0100
TZNAME:BST
DTSTART:20240331T010000
END:DAYLIGHT
BEGIN:STANDARD
TZOFFSETFROM:+0100
TZOFFSETTO:+0000
TZNAME:GMT
DTSTART:20241027T010000
END:STANDARD
BEGIN:DAYLIGHT
TZOFFSETFROM:+0000
TZOFFSETTO:+0100
TZNAME:BST
DTSTART:20250330T010000
END:DAYLIGHT
BEGIN:STANDARD
TZOFFSETFROM:+0100
TZOFFSETTO:+0000
TZNAME:GMT
DTSTART:20251026T010000
END:STANDARD
BEGIN:DAYLIGHT
TZOFFSETFROM:+0000
TZOFFSETTO:+0100
TZNAME:BST
DTSTART:20260329T010000
END:DAYLIGHT
BEGIN:STANDARD
TZOFFSETFROM:+0100
TZOFFSETTO:+0000
TZNAME:GMT
DTSTART:20261025T010000
END:STANDARD
END:VTIMEZONE
BEGIN:VEVENT
DTSTART;TZID=Europe/London:20251210T140000
DTEND;TZID=Europe/London:20251210T153000
DTSTAMP:20260422T171057
CREATED:20251125T171839Z
LAST-MODIFIED:20251125T171839Z
UID:3704-1765375200-1765380600@cardiffmethodist.org.uk
SUMMARY:Advent Study
DESCRIPTION:
URL:https://cardiffmethodist.org.uk/event/advent-study-3/
LOCATION:Wesley Methodist Church\, Caerphilly\, Crescent Road\, Caerphilly\, CF83 1AB\, United Kingdom
END:VEVENT
END:VCALENDAR