BEGIN:VCALENDAR
VERSION:2.0
PRODID:-//Cardiff Methodist Circuit - ECPv6.15.15//NONSGML v1.0//EN
CALSCALE:GREGORIAN
METHOD:PUBLISH
X-WR-CALNAME:Cardiff Methodist Circuit
X-ORIGINAL-URL:https://cardiffmethodist.org.uk
X-WR-CALDESC:Events for Cardiff Methodist Circuit
REFRESH-INTERVAL;VALUE=DURATION:PT1H
X-Robots-Tag:noindex
X-PUBLISHED-TTL:PT1H
BEGIN:VTIMEZONE
TZID:Europe/London
BEGIN:DAYLIGHT
TZOFFSETFROM:+0000
TZOFFSETTO:+0100
TZNAME:BST
DTSTART:20240331T010000
END:DAYLIGHT
BEGIN:STANDARD
TZOFFSETFROM:+0100
TZOFFSETTO:+0000
TZNAME:GMT
DTSTART:20241027T010000
END:STANDARD
BEGIN:DAYLIGHT
TZOFFSETFROM:+0000
TZOFFSETTO:+0100
TZNAME:BST
DTSTART:20250330T010000
END:DAYLIGHT
BEGIN:STANDARD
TZOFFSETFROM:+0100
TZOFFSETTO:+0000
TZNAME:GMT
DTSTART:20251026T010000
END:STANDARD
BEGIN:DAYLIGHT
TZOFFSETFROM:+0000
TZOFFSETTO:+0100
TZNAME:BST
DTSTART:20260329T010000
END:DAYLIGHT
BEGIN:STANDARD
TZOFFSETFROM:+0100
TZOFFSETTO:+0000
TZNAME:GMT
DTSTART:20261025T010000
END:STANDARD
END:VTIMEZONE
BEGIN:VEVENT
DTSTART;TZID=Europe/London:20251217T140000
DTEND;TZID=Europe/London:20251217T153000
DTSTAMP:20260422T170909
CREATED:20251125T171910Z
LAST-MODIFIED:20251125T171910Z
UID:3706-1765980000-1765985400@cardiffmethodist.org.uk
SUMMARY:Advent Study
DESCRIPTION:
URL:https://cardiffmethodist.org.uk/event/advent-study-4/
LOCATION:Wesley Methodist Church\, Caerphilly\, Crescent Road\, Caerphilly\, CF83 1AB\, United Kingdom
END:VEVENT
BEGIN:VEVENT
DTSTART;TZID=Europe/London:20251217T190000
DTEND;TZID=Europe/London:20251217T200000
DTSTAMP:20260422T170909
CREATED:20251208T181146Z
LAST-MODIFIED:20251208T181146Z
UID:3737-1765998000-1766001600@cardiffmethodist.org.uk
SUMMARY:Carols around the Tree
DESCRIPTION:
URL:https://cardiffmethodist.org.uk/event/carols-around-the-tree/
LOCATION:Cyncoed Methodist Church\, Westminster Crescent\, Cardiff\, CF23 6SE\, United Kingdom
END:VEVENT
END:VCALENDAR