BEGIN:VCALENDAR
VERSION:2.0
PRODID:-//Cardiff Methodist Circuit - ECPv6.15.15//NONSGML v1.0//EN
CALSCALE:GREGORIAN
METHOD:PUBLISH
X-WR-CALNAME:Cardiff Methodist Circuit
X-ORIGINAL-URL:https://cardiffmethodist.org.uk
X-WR-CALDESC:Events for Cardiff Methodist Circuit
REFRESH-INTERVAL;VALUE=DURATION:PT1H
X-Robots-Tag:noindex
X-PUBLISHED-TTL:PT1H
BEGIN:VTIMEZONE
TZID:Europe/London
BEGIN:DAYLIGHT
TZOFFSETFROM:+0000
TZOFFSETTO:+0100
TZNAME:BST
DTSTART:20250330T010000
END:DAYLIGHT
BEGIN:STANDARD
TZOFFSETFROM:+0100
TZOFFSETTO:+0000
TZNAME:GMT
DTSTART:20251026T010000
END:STANDARD
BEGIN:DAYLIGHT
TZOFFSETFROM:+0000
TZOFFSETTO:+0100
TZNAME:BST
DTSTART:20260329T010000
END:DAYLIGHT
BEGIN:STANDARD
TZOFFSETFROM:+0100
TZOFFSETTO:+0000
TZNAME:GMT
DTSTART:20261025T010000
END:STANDARD
BEGIN:DAYLIGHT
TZOFFSETFROM:+0000
TZOFFSETTO:+0100
TZNAME:BST
DTSTART:20270328T010000
END:DAYLIGHT
BEGIN:STANDARD
TZOFFSETFROM:+0100
TZOFFSETTO:+0000
TZNAME:GMT
DTSTART:20271031T010000
END:STANDARD
END:VTIMEZONE
BEGIN:VEVENT
DTSTART;TZID=Europe/London:20260404T140000
DTEND;TZID=Europe/London:20260404T170000
DTSTAMP:20260422T131113
CREATED:20260316T142929Z
LAST-MODIFIED:20260325T130035Z
UID:3895-1775311200-1775322000@cardiffmethodist.org.uk
SUMMARY:Easter Labyrinth
DESCRIPTION:
URL:https://cardiffmethodist.org.uk/event/holy-saturday/
LOCATION:Cyncoed Methodist Church\, Westminster Crescent\, Cardiff\, CF23 6SE\, United Kingdom
END:VEVENT
BEGIN:VEVENT
DTSTART;TZID=Europe/London:20260404T193000
DTEND;TZID=Europe/London:20260404T210000
DTSTAMP:20260422T131113
CREATED:20260325T131148Z
LAST-MODIFIED:20260325T131148Z
UID:3920-1775331000-1775336400@cardiffmethodist.org.uk
SUMMARY:CMCC I'll Not Want
DESCRIPTION:
URL:https://cardiffmethodist.org.uk/event/cmcc-ill-not-want-2/
LOCATION:Cathays Methodist Church\, Crwys Road\, Cardiff\, CF24 4NE\, United Kingdom
END:VEVENT
END:VCALENDAR