BEGIN:VCALENDAR
VERSION:2.0
PRODID:-//Cardiff Methodist Circuit - ECPv6.15.15//NONSGML v1.0//EN
CALSCALE:GREGORIAN
METHOD:PUBLISH
X-ORIGINAL-URL:https://cardiffmethodist.org.uk
X-WR-CALDESC:Events for Cardiff Methodist Circuit
REFRESH-INTERVAL;VALUE=DURATION:PT1H
X-Robots-Tag:noindex
X-PUBLISHED-TTL:PT1H
BEGIN:VTIMEZONE
TZID:Europe/London
BEGIN:DAYLIGHT
TZOFFSETFROM:+0000
TZOFFSETTO:+0100
TZNAME:BST
DTSTART:20240331T010000
END:DAYLIGHT
BEGIN:STANDARD
TZOFFSETFROM:+0100
TZOFFSETTO:+0000
TZNAME:GMT
DTSTART:20241027T010000
END:STANDARD
BEGIN:DAYLIGHT
TZOFFSETFROM:+0000
TZOFFSETTO:+0100
TZNAME:BST
DTSTART:20250330T010000
END:DAYLIGHT
BEGIN:STANDARD
TZOFFSETFROM:+0100
TZOFFSETTO:+0000
TZNAME:GMT
DTSTART:20251026T010000
END:STANDARD
BEGIN:DAYLIGHT
TZOFFSETFROM:+0000
TZOFFSETTO:+0100
TZNAME:BST
DTSTART:20260329T010000
END:DAYLIGHT
BEGIN:STANDARD
TZOFFSETFROM:+0100
TZOFFSETTO:+0000
TZNAME:GMT
DTSTART:20261025T010000
END:STANDARD
END:VTIMEZONE
BEGIN:VEVENT
DTSTART;TZID=Europe/London:20250706T090000
DTEND;TZID=Europe/London:20250706T120000
DTSTAMP:20260424T214441
CREATED:20250521T113721Z
LAST-MODIFIED:20250521T113721Z
UID:3519-1751792400-1751803200@cardiffmethodist.org.uk
SUMMARY:Morning Worship
DESCRIPTION: \n\nPlease click on the link below to view Worship for this Sunday on the Circuit Plan.\nCircuit Plan June to August 2025\n 
URL:https://cardiffmethodist.org.uk/event/morning-worship-16/
LOCATION:Various Locations
END:VEVENT
BEGIN:VEVENT
DTSTART;TZID=Europe/London:20250706T160000
DTEND;TZID=Europe/London:20250706T170000
DTSTAMP:20260424T214441
CREATED:20250521T114735Z
LAST-MODIFIED:20250521T114735Z
UID:3540-1751817600-1751821200@cardiffmethodist.org.uk
SUMMARY:Informal Afternoon Service
DESCRIPTION:Informal Afternoon Service\nCyncoed Methodist Church\n4.00pm
URL:https://cardiffmethodist.org.uk/event/informal-afternoon-service/
LOCATION:Cyncoed Methodist Church\, Westminster Crescent\, Cardiff\, CF23 6SE\, United Kingdom
END:VEVENT
BEGIN:VEVENT
DTSTART;TZID=Europe/London:20250713T103000
DTEND;TZID=Europe/London:20250713T120000
DTSTAMP:20260424T214441
CREATED:20250521T113754Z
LAST-MODIFIED:20250521T113754Z
UID:3521-1752402600-1752408000@cardiffmethodist.org.uk
SUMMARY:Morning Worship
DESCRIPTION: \n\nPlease click on the link below to view Worship for this Sunday on the Circuit Plan.\nCircuit Plan June to August 2025
URL:https://cardiffmethodist.org.uk/event/morning-worship-19/
LOCATION:Various Locations
END:VEVENT
BEGIN:VEVENT
DTSTART;TZID=Europe/London:20250713T180000
DTEND;TZID=Europe/London:20250713T190000
DTSTAMP:20260424T214441
CREATED:20250521T115017Z
LAST-MODIFIED:20250521T115017Z
UID:3544-1752429600-1752433200@cardiffmethodist.org.uk
SUMMARY:Reflective Service
DESCRIPTION:Reflective Worship\nSt. Andrew’s Methodist Church\n6.00pm
URL:https://cardiffmethodist.org.uk/event/reflective-service/
LOCATION:St. Andrew’s Methodist Church\, Caeerphilly Road\, Birchgrove\, Cardiff\, CF14 4AE\, United Kingdom
END:VEVENT
BEGIN:VEVENT
DTSTART;TZID=Europe/London:20250720T103000
DTEND;TZID=Europe/London:20250720T120000
DTSTAMP:20260424T214441
CREATED:20250521T113834Z
LAST-MODIFIED:20250521T113834Z
UID:3523-1753007400-1753012800@cardiffmethodist.org.uk
SUMMARY:Morning Worship
DESCRIPTION: \n\nPlease click on the link below to view Worship for this Sunday on the Circuit Plan.\nCircuit Plan June to August 2025
URL:https://cardiffmethodist.org.uk/event/morning-worship-20/
LOCATION:Various Locations
END:VEVENT
BEGIN:VEVENT
DTSTART;TZID=Europe/London:20250727T103000
DTEND;TZID=Europe/London:20250727T120000
DTSTAMP:20260424T214441
CREATED:20250521T113905Z
LAST-MODIFIED:20250521T113905Z
UID:3525-1753612200-1753617600@cardiffmethodist.org.uk
SUMMARY:Morning Worship
DESCRIPTION: \n\nPlease click on the link below to view Worship for this Sunday on the Circuit Plan.\nCircuit Plan June to August 2025\n 
URL:https://cardiffmethodist.org.uk/event/morning-worship-21/
LOCATION:Various Locations
END:VEVENT
END:VCALENDAR